BEGIN:VCALENDAR
VERSION:2.0
PRODID:icalendar-ruby
CALSCALE:GREGORIAN
METHOD:PUBLISH
BEGIN:VEVENT
DTSTAMP:20260423T135643Z
UID:29-901466@oursaviourap.org.au
DTSTART:20260425T233000Z
DTEND:20260426T003000Z
CLASS:PUBLIC
CREATED:20260423T204130
DESCRIPTION:9am Worship
LAST-MODIFIED:20260423T204130
LOCATION:Our Saviour Lutheran Church\, Aberfoyle Park
SUMMARY:9am Worship
URL;VALUE=URI:https://oursaviourap.org.au/events/9am-worship/2026-04-26
ATTACH;FILENAME=Mid Week-3.png;FMTTYPE=image/png:https://dq5pwpg1q8ru0.clou
 dfront.net/2021/08/29/21/28/16/3d87ac18-3b12-429a-b62e-7c7ac2d7788f/Mid%20
 Week-3.png
END:VEVENT
END:VCALENDAR
